BEGIN:VCALENDAR
VERSION:2.0
PRODID:-//Familienzentrum Heek - ECPv6.15.20//NONSGML v1.0//EN
CALSCALE:GREGORIAN
METHOD:PUBLISH
X-WR-CALNAME:Familienzentrum Heek
X-ORIGINAL-URL:https://familienzentrum-heek.de
X-WR-CALDESC:Veranstaltungen für Familienzentrum Heek
REFRESH-INTERVAL;VALUE=DURATION:PT1H
X-Robots-Tag:noindex
X-PUBLISHED-TTL:PT1H
BEGIN:VTIMEZONE
TZID:Europe/Berlin
BEGIN:DAYLIGHT
TZOFFSETFROM:+0100
TZOFFSETTO:+0200
TZNAME:CEST
DTSTART:20250330T010000
END:DAYLIGHT
BEGIN:STANDARD
TZOFFSETFROM:+0200
TZOFFSETTO:+0100
TZNAME:CET
DTSTART:20251026T010000
END:STANDARD
BEGIN:DAYLIGHT
TZOFFSETFROM:+0100
TZOFFSETTO:+0200
TZNAME:CEST
DTSTART:20260329T010000
END:DAYLIGHT
BEGIN:STANDARD
TZOFFSETFROM:+0200
TZOFFSETTO:+0100
TZNAME:CET
DTSTART:20261025T010000
END:STANDARD
BEGIN:DAYLIGHT
TZOFFSETFROM:+0100
TZOFFSETTO:+0200
TZNAME:CEST
DTSTART:20270328T010000
END:DAYLIGHT
BEGIN:STANDARD
TZOFFSETFROM:+0200
TZOFFSETTO:+0100
TZNAME:CET
DTSTART:20271031T010000
END:STANDARD
END:VTIMEZONE
BEGIN:VEVENT
DTSTART;TZID=Europe/Berlin:20260428T140000
DTEND;TZID=Europe/Berlin:20260428T161500
DTSTAMP:20260424T145203
CREATED:20250901T040201Z
LAST-MODIFIED:20250901T040201Z
UID:4483-1777384800-1777392900@familienzentrum-heek.de
SUMMARY:Offener Spielplatz St. Marien
DESCRIPTION:28.04.2026 \nOffener Spielplatz\nAn einem Mittag haben Kinder die Möglichkeit den Spielplatz vom St. Marien Kindergarten auf Herz und Nieren zu testen und alle Spielgerüste sowie Fahrzeuge auszuprobieren. Eingeladen sind alle Kinder aus der Umgebung im Spielplatzalter.\nInfo: Die Aufsichtspflicht an diesem Mittag liegt bei der erwachsenen Begleitperson. Bei anhaltenden Regen findet das Angebot nicht statt. \nTermin: Di\, 28.04.2026\nUhrzeit: 14.00-16.15Uhr\nWo: St. Marien Kindergarten\nGrimmeltstr. 5\n48619 Heek\nAnmeldung? Nicht erforderlich
URL:https://familienzentrum-heek.de/event/offener-spielplatz-st-marien-2/
LOCATION:Kindergarten St. Marien
ATTACH;FMTTYPE=image/jpeg:https://familienzentrum-heek.de/wp-content/uploads/2022/08/Logo-FZ-Foto.jpg
END:VEVENT
END:VCALENDAR